BEGIN:VCALENDAR
VERSION:2.0
PRODID:-//http://www.airsoft-cad.si///NONSGML kigkonsult.se iCalcreator 2.10.15//
METHOD:PUBLISH
BEGIN:VEVENT
UID:20260420T103513CEST-4502hCiiRc@http://www.airsoft-cad.si/
DTSTAMP:20260420T083513Z
DESCRIPTION:Kaj: Medklubski dogodek - mednarodni dogodek v CCL\nKdo: Člani 
 CAD\, ki imajo vso predpisano opremo in so pravnomočni člani CAD\, stari 1
 8+\nKje: CCL . Lenti\, Mađarska\nKdaj: sobota\, 3.10.2015\nZbor: Mesnine o
 b 05.00 odhod 05.30\nPrihod na teren ob 07.00. Nato odhod po dogovoru oz. 
 zvečer še isti dan.\n&nbsp\;\nPrijavnina znaša 35eur po osebi\, za katero 
 še ne vem\, ali jo je potrebno nakazati ali plačati na samem dogodku. Bo o
 bvestil Sebastjan Rok Planko.
DTSTART:20151003T000000Z
LOCATION:Lenti (Lenti\, Hungary)
SUMMARY:MK Lenti\, sobota 3.10.2015 ob 05.00 štart
END:VEVENT
END:VCALENDAR
